BEGIN:VCALENDAR
VERSION:2.0
PRODID:-//CFFI - Deutschland - ECPv6.15.20//NONSGML v1.0//EN
CALSCALE:GREGORIAN
METHOD:PUBLISH
X-WR-CALNAME:CFFI - Deutschland
X-ORIGINAL-URL:https://cffi-deutschland.de
X-WR-CALDESC:Veranstaltungen für CFFI - Deutschland
REFRESH-INTERVAL;VALUE=DURATION:PT1H
X-Robots-Tag:noindex
X-PUBLISHED-TTL:PT1H
BEGIN:VTIMEZONE
TZID:Europe/Berlin
BEGIN:DAYLIGHT
TZOFFSETFROM:+0100
TZOFFSETTO:+0200
TZNAME:CEST
DTSTART:20250330T010000
END:DAYLIGHT
BEGIN:STANDARD
TZOFFSETFROM:+0200
TZOFFSETTO:+0100
TZNAME:CET
DTSTART:20251026T010000
END:STANDARD
BEGIN:DAYLIGHT
TZOFFSETFROM:+0100
TZOFFSETTO:+0200
TZNAME:CEST
DTSTART:20260329T010000
END:DAYLIGHT
BEGIN:STANDARD
TZOFFSETFROM:+0200
TZOFFSETTO:+0100
TZNAME:CET
DTSTART:20261025T010000
END:STANDARD
BEGIN:DAYLIGHT
TZOFFSETFROM:+0100
TZOFFSETTO:+0200
TZNAME:CEST
DTSTART:20270328T010000
END:DAYLIGHT
BEGIN:STANDARD
TZOFFSETFROM:+0200
TZOFFSETTO:+0100
TZNAME:CET
DTSTART:20271031T010000
END:STANDARD
END:VTIMEZONE
BEGIN:VEVENT
DTSTART;TZID=Europe/Berlin:20260424T190000
DTEND;TZID=Europe/Berlin:20260426T114500
DTSTAMP:20260423T153904
CREATED:20260414T101620Z
LAST-MODIFIED:20260414T101620Z
UID:12355-1777057200-1777203900@cffi-deutschland.de
SUMMARY:Die Offenbarung aus jüdischer Perspektive | Seminar
DESCRIPTION:Jurek Schulz ist theologischer Referent der Arbeitsgemeinschaft für das messianische Zeugnis an Israel (www.amzi.org). Er ist verheiratet und wohnt in Hamburg. Seine geistliche Heimat hatte er lange in der Frankfurter Synagoge. Nach dem Studium des Neuen Testamentes erkannte er\, dass Jesus Christus der verheißene Messias auch für das jüdische Volk ist. \nDer studierte Theologe und Pädagoge leitete 15 Jahre eine jüdisch-messianische Gemeinde in Hamburg und ist Verfasser unzähliger Beiträge zu den Themen Israel\, Judentum\, messianische Bewegung und Bibelauslegung in verschiedenen Zeitschriften. Ebenso ist er Autor und Mitautor verschiedener Bücher (www.mstudien.de). \nDatum: 24. – 26. April 2026 \nOrt: BBZ\, Wiesenstraße 62\, 08468 Reichenbach \nFreitag\, 24.04.	19.00 Uhr	Beginn\, Begrüßung\, Vorstellung\n 	19.15 Uhr	Aktuell – Was ist los in Israel?\n 	20.00 Uhr	Seminareinheit 1\n 	20.45 Uhr	Fragen\, Infos\n 	21.00 Uhr	Abschluss\, Gebet \nSamstag\, 25.04.	10.00 Uhr	Begrüßung\, Infos\n 	10.10. Uhr	Seminareinheit 2\n 	11.00 Uhr	Pause\n 	11.15 Uhr	Seminareinheit 3\n 	12.00 Uhr	Mittagspause\n 	13.15 Uhr	Seminareinheit 4\n 	14.45 Uhr	Kaffeepause\n 	15.30 Uhr	Seminareinheit 5\n 	16.30 Uhr	Fragen\, Infos\, Gebet\nSonntag\, 26.04.	9.30 Uhr	Begrüßung\, Infos\n 	9.40 Uhr	Seminareinheit 6\n 	10.45 Uhr	Fragen\n 	11.45 Uhr	Abschluss\, Gebet \nSeminargebühr: regulär >> 50\,00 EUR | ermäßigt (Schüler\, Studenten) >> 40\,00 EUR (Barzahlung vor Ort) \nMittagessen: wird in der Mittagspause angeboten. Kosten pro Teilnehmer: 8\,00 EUR Bitte teilen Sie uns über das Kommentarfeld der Anmeldung mit\, ob und für wie viele Personen Sie Mittagessen wünschen.
URL:https://cffi-deutschland.de/veranstaltung/die-offenbarung-aus-juedischer-perspektive-seminar/
LOCATION:Reichenbach \, BBZ\, Wiesenstr. 62\, Reichenbach\, Sachsen\, 08468\, Germany
ATTACH;FMTTYPE=image/png:https://cffi-deutschland.de/wp-content/uploads/2026/04/26_Jurek_Schulz-1-1.png
ORGANIZER;CN="S%C3%A4chsische Israelfreunde":MAILTO:info@zum-leben.de
END:VEVENT
END:VCALENDAR