BEGIN:VCALENDAR
VERSION:2.0
PRODID:-//CFFI - Deutschland - ECPv6.15.20//NONSGML v1.0//EN
CALSCALE:GREGORIAN
METHOD:PUBLISH
X-ORIGINAL-URL:https://cffi-deutschland.de
X-WR-CALDESC:Veranstaltungen für CFFI - Deutschland
REFRESH-INTERVAL;VALUE=DURATION:PT1H
X-Robots-Tag:noindex
X-PUBLISHED-TTL:PT1H
BEGIN:VTIMEZONE
TZID:Europe/Berlin
BEGIN:DAYLIGHT
TZOFFSETFROM:+0100
TZOFFSETTO:+0200
TZNAME:CEST
DTSTART:20240331T010000
END:DAYLIGHT
BEGIN:STANDARD
TZOFFSETFROM:+0200
TZOFFSETTO:+0100
TZNAME:CET
DTSTART:20241027T010000
END:STANDARD
BEGIN:DAYLIGHT
TZOFFSETFROM:+0100
TZOFFSETTO:+0200
TZNAME:CEST
DTSTART:20250330T010000
END:DAYLIGHT
BEGIN:STANDARD
TZOFFSETFROM:+0200
TZOFFSETTO:+0100
TZNAME:CET
DTSTART:20251026T010000
END:STANDARD
BEGIN:DAYLIGHT
TZOFFSETFROM:+0100
TZOFFSETTO:+0200
TZNAME:CEST
DTSTART:20260329T010000
END:DAYLIGHT
BEGIN:STANDARD
TZOFFSETFROM:+0200
TZOFFSETTO:+0100
TZNAME:CET
DTSTART:20261025T010000
END:STANDARD
END:VTIMEZONE
BEGIN:VEVENT
DTSTART;TZID=Europe/Berlin:20250215T150000
DTEND;TZID=Europe/Berlin:20250215T200000
DTSTAMP:20260423T124343
CREATED:20250115T093529Z
LAST-MODIFIED:20250129T101138Z
UID:7597-1739631600-1739649600@cffi-deutschland.de
SUMMARY:GET IN TOUCH - Der Israeltag für Berlin und Brandenburg
DESCRIPTION:Israel braucht unser Gebet und unsere Unterstützung mehr denn je! Der Angriff der Hamas und des Iran auf Israel hat geistliche und regionale Wehen ausgelöst. Der Nahe Osten verändert sich dramatisch! Wir erleben die Erfüllung biblischer Prophetie vor unseren Augen. Beim Israeltag „Get in Touch” werden wir Jesus großmachen und für Israel einstehen. Einsteiger und langjährige Israel-Freunde können biblische\, historische und politische Einsichten gewinnen und vertiefen. Wir wollen Gottes Herz für das jüdische Volk neu kennenlernen. Es wird ein Tag des Gebets\, aber auch ein Tag der Ermutigung zum Handeln! \nDer Israeltag wird veranstaltet von Ebenezer Operation Exodus und Christen an der Seite Israels. \nAnmeldung unter folgendem Link: https://csi-aktuell.de/events/israeltag-bb-25/
URL:https://cffi-deutschland.de/veranstaltung/get-in-touch-der-israeltag-fuer-berlin-und-brandenburg-2/
LOCATION:Kreuzkirche Berlin-Lankwitz\, Zietenstraße 11\, Berlin\, 12249\, Deutschland
ATTACH;FMTTYPE=image/jpeg:https://cffi-deutschland.de/wp-content/uploads/2025/01/2025_Israeltag_Berlin-Banner.jpg
ORGANIZER;CN="Ebenezer Emergency Fund International (Deutschland) e.V.":MAILTO:info@ebenezer-oe.org
END:VEVENT
BEGIN:VEVENT
DTSTART;TZID=Europe/Berlin:20250226T193000
DTEND;TZID=Europe/Berlin:20250226T213000
DTSTAMP:20260423T124343
CREATED:20250218T065827Z
LAST-MODIFIED:20250218T065827Z
UID:7766-1740598200-1740605400@cffi-deutschland.de
SUMMARY:Resilienz - Die Geheimwaffe Israels
DESCRIPTION:Brigitte B. Nussbächer führt durch ein Thema\, das Jahrhunderte umspannt: Was befähigt Israel\, immer wieder\, trotz scheinbar aussichtloser Lage\, nicht aufzugeben?\nKann Leid einen verborgenen Segen beinhalten? Charaktere der Bibel\, historische Ereignisse und persönliche Erfahrungen zeigen auf\, was Israel bis heute die Kraft gibt\, auf ein gutes Ende zu vertrauen. \nMit aktuellem Live-Online-Lagebericht aus Israel von IDF Sprecher (der Reserve) und Schriftsteller Arye Sharuz Shalicar.\nIsrael steht vor brisanten Entscheidungen. Selten war so viel im Umbruch wie gerade jetzt!
URL:https://cffi-deutschland.de/veranstaltung/resilienz-die-geheimwaffe-israels/
LOCATION:SCM Shop / ALPHA Buchhandlung Holzgerlingen\, Max-Eyth-Str. 41\, Holzgerlingen\, Baden Württemberg\, 71088\, Deutschland
ATTACH;FMTTYPE=image/jpeg:https://cffi-deutschland.de/wp-content/uploads/2025/02/Plakat-Israelabend.jpg
ORGANIZER;CN="ARC TO ISRAEL (Brigitte B. Nussb%C3%A4cher &amp%3B Harald Bottesch)":MAILTO:arc-association@freenet.de
END:VEVENT
BEGIN:VEVENT
DTSTART;TZID=Europe/Berlin:20250227T193000
DTEND;TZID=Europe/Berlin:20250227T213000
DTSTAMP:20260423T124343
CREATED:20250218T065834Z
LAST-MODIFIED:20250218T065834Z
UID:7771-1740684600-1740691800@cffi-deutschland.de
SUMMARY:Resilienz - Die Geheimwaffe Israels
DESCRIPTION:Brigitte B. Nussbächer führt durch ein Thema\, das Jahrhunderte umspannt: Was befähigt Israel\, immer wieder\, trotz scheinbar aussichtloser Lage\, nicht aufzugeben?\nKann Leid einen verborgenen Segen beinhalten? Charaktere der Bibel\, historische Ereignisse und persönliche Erfahrungen zeigen auf\, was Israel bis heute die Kraft gibt\, auf ein gutes Ende zu vertrauen. \nMit aktuellem Live-Online-Lagebericht aus Israel von IDF Sprecher (der Reserve) und Schriftsteller Arye Sharuz Shalicar\nIsrael steht vor brisanten Entscheidungen. Selten war so viel im Umbruch wie gerade jetzt!
URL:https://cffi-deutschland.de/veranstaltung/resilienz-die-geheimwaffe-israels-2/
LOCATION:SCM Shop / ALPHA Buchhandlung Holzgerlingen\, Max-Eyth-Str. 41\, Holzgerlingen\, Baden Württemberg\, 71088\, Deutschland
ATTACH;FMTTYPE=image/png:https://cffi-deutschland.de/wp-content/uploads/2025/02/Plakat-Israelabend-27.02.25.png
ORGANIZER;CN="ARC TO ISRAEL (Brigitte B. Nussb%C3%A4cher &amp%3B Harald Bottesch)":MAILTO:arc-association@freenet.de
END:VEVENT
END:VCALENDAR